BEGIN:VCALENDAR
VERSION:2.0
PRODID:GIGPRESS 2.0 WORDPRESS PLUGIN
CALSCALE:GREGORIAN
X-WR-TIMEZONE:Etc/GMT
METHOD:PUBLISH
BEGIN:VTIMEZONE
TZID:GMT
BEGIN:STANDARD
DTSTART:20071028T010000
TZOFFSETTO:+0000
TZOFFSETFROM:+0000
END:STANDARD
END:VTIMEZONE
BEGIN:VEVENT
SUMMARY:Jean Guihen Queyras à St. Pauli Ruine | TheaterRuine
DESCRIPTION:Notes: <b>Invisible Stream</b><br />Jean-Guihen Queyras\, cello<br /> Raphaël Imbert\, saxophone<br />Pierre-François Blanchard\, piano<br />Sonny Troupé\, percussions 
LOCATION:St. Pauli Ruine | TheaterRuine\, Königsbrücker Pl. 1a\, Dresden\, BE
UID:20260516T173000Z-598-maintenance@pengpeng.fr
URL:/concerts
DTSTART;VALUE=DATE-TIME;TZID=GMT:20260516T173000Z
DTEND;VALUE=DATE-TIME;TZID=GMT:20260516T173000Z
DTSTAMP:20260424T103853Z
END:VEVENT
END:VCALENDAR