BEGIN:VCALENDAR
VERSION:2.0
PRODID:GIGPRESS 2.0 WORDPRESS PLUGIN
CALSCALE:GREGORIAN
X-WR-TIMEZONE:Etc/GMT
METHOD:PUBLISH
BEGIN:VTIMEZONE
TZID:GMT
BEGIN:STANDARD
DTSTART:20071028T010000
TZOFFSETTO:+0000
TZOFFSETFROM:+0000
END:STANDARD
END:VTIMEZONE
BEGIN:VEVENT
SUMMARY:Jean Guihen Queyras à Konzerthaus
DESCRIPTION:Notes: <b>ELGAR</b> - cello concerto<br /><b>Mahler</b> - Symphonie n°7<br /><br />  Jean-Guihen Queyras\, cello<br />André de Ridder\, conductor<br />Philharmonisches Orchester Freiburg 
LOCATION:Konzerthaus\, Konrad-Adenauer-Platz 1\, Freiburg-em-Brisgau\, DE
UID:20260512T173000Z-597-maintenance@pengpeng.fr
URL:/concerts
DTSTART;VALUE=DATE-TIME;TZID=GMT:20260512T173000Z
DTEND;VALUE=DATE-TIME;TZID=GMT:20260512T173000Z
DTSTAMP:20260424T103949Z
END:VEVENT
END:VCALENDAR