BEGIN:VCALENDAR
VERSION:2.0
PRODID:GIGPRESS 2.0 WORDPRESS PLUGIN
CALSCALE:GREGORIAN
X-WR-TIMEZONE:Etc/GMT
METHOD:PUBLISH
BEGIN:VTIMEZONE
TZID:GMT
BEGIN:STANDARD
DTSTART:20071028T010000
TZOFFSETTO:+0000
TZOFFSETFROM:+0000
END:STANDARD
END:VTIMEZONE
BEGIN:VEVENT
SUMMARY:Jean Guihen Queyras à Brucknerhaus
DESCRIPTION:Notes: <b>BEETHOVEN</b><br />  - Sonate für Violoncello und Klavier Nr. 4 C-Dur op. 102\, Nr. 1<br />  - Sonate für Violoncello und Klavier Nr. 5 D-Dur op. 102\, Nr. 2 <br />  <b>DEBUSSY</b> - Sonate für Violoncello und Klavier <br /><b>RACHMANINOFF</&gt\; - Sonate für Violoncello und Klavier g-Moll op. 19&lt\;br/><br />  Jean-Guihen Queyras | Violoncello<br />    Alexander Melnikov | Klavier 
LOCATION:Brucknerhaus\, Untere Donaulände 7\, Linz\, AT
UID:20260502T173000Z-596-maintenance@pengpeng.fr
URL:/concerts
DTSTART;VALUE=DATE-TIME;TZID=GMT:20260502T173000Z
DTEND;VALUE=DATE-TIME;TZID=GMT:20260502T173000Z
DTSTAMP:20260424T104051Z
END:VEVENT
END:VCALENDAR